BEGIN:VCALENDAR
VERSION:2.0
PRODID:-//ChamberMaster//Event Calendar 2.0//EN
METHOD:PUBLISH
X-PUBLISHED-TTL:P3D
REFRESH-INTERVAL:P3D
CALSCALE:GREGORIAN
BEGIN:VEVENT
DTSTART:20140325T143000Z
DTEND:20140325T163000Z
X-MICROSOFT-CDO-ALLDAYEVENT:FALSE
SUMMARY:How to Create an Online Presence
DESCRIPTION:Your business must have an online presence to be successful today. In this seminar we will discuss the many components of building your online presence including websites\, social media\, search engines\, video marketing and blogging. This is a great seminar for both new business owners and business owners who want to demystify how the internet impacts their business.\n\n\n\nRegister Here: http://events.r20.constantcontact.com/register/event?oeidk=a07e90e9x9010c2b8f6&llr=zotg6ojab\n\n \n\nKimberly Beer\, Midnight Productions\, Inc.\, is the presenter.
X-ALT-DESC;FMTTYPE=text/html:<span style="font-size: 12pt" title="">Your business must have an online presence to be successful today. In this seminar we will discuss the many components of building your online presence including websites\, social media\, search engines\, video marketing and blogging. This is a great seminar for both new business owners and business owners who want to demystify how the internet impacts their business.</span><br />\n<br />\nRegister Here: <a href="http://events.r20.constantcontact.com/register/event?oeidk=a07e90e9x9010c2b8f6&amp\;llr=zotg6ojab">http://events.r20.constantcontact.com/register/event?oeidk=a07e90e9x9010c2b8f6&amp\;llr=zotg6ojab</a><br />\n&nbsp\;<br />\n<span class="cc-var" style="font-family: Arial\, Helvetica\, sans-serif\; font-size: 12pt" title="">Kimberly Beer\, </span><span class="cc-var" style="font-family: Arial\, Helvetica\, sans-serif\; font-size: 12pt" title="">Midnight Productions\, Inc.\, is the presenter.</span><br />\n&nbsp\;
LOCATION:KCK Chamber of Commerce 727 Minnesota Kansas City\, Kansas
UID:e.1213.150
SEQUENCE:3
DTSTAMP:20260424T072348Z
URL:https://business.kckchamber.com/events/details/how-to-create-an-online-presence-03-25-2014-150
END:VEVENT

END:VCALENDAR
