BEGIN:VCALENDAR
VERSION:2.0
PRODID:-//ChamberMaster//Event Calendar 2.0//EN
METHOD:PUBLISH
X-PUBLISHED-TTL:P3D
REFRESH-INTERVAL:P3D
CALSCALE:GREGORIAN
BEGIN:VEVENT
DTSTART:20130405T130000Z
DTEND:20130405T143000Z
X-MICROSOFT-CDO-ALLDAYEVENT:FALSE
SUMMARY:Innovation Summit - Business Solution Series 2013
DESCRIPTION:Come listen to local entrepreneurs pitch their newest ideas to venture capitalists and investors. Have 30 minutes of networking with the investors over a cup of coffee.\n\n\n\nThis workshop is part of the 2013 Business Solution Series\, networking breakfasts to support the Kansas City business community with its changing economic and industry needs.
X-ALT-DESC;FMTTYPE=text/html:Come listen to local entrepreneurs pitch their newest ideas to venture capitalists and investors. Have 30 minutes of networking with the investors over a cup of coffee.<br />\n<br />\nThis workshop is part of the 2013&nbsp\;Business Solution Series\, networking breakfasts to support the Kansas City business community with its changing economic and industry needs.&nbsp\;<span _fck_bookmark="1" style="display: none">&nbsp\;</span>&nbsp\;<span _fck_bookmark="1" style="display: none">&nbsp\;</span>
LOCATION:Kansas City Kansas Community College Flint Building\, 3632 7250 State Ave. Kansas City\, Kan.
UID:e.1213.55
SEQUENCE:3
DTSTAMP:20260424T224937Z
URL:https://business.kckchamber.com/events/details/innovation-summit-business-solution-series-2013-04-05-2013-55
END:VEVENT

END:VCALENDAR
