BEGIN:VCALENDAR
VERSION:2.0
PRODID:-//ChamberMaster//Event Calendar 2.0//EN
METHOD:PUBLISH
X-PUBLISHED-TTL:P3D
REFRESH-INTERVAL:P3D
CALSCALE:GREGORIAN
BEGIN:VEVENT
DTSTART:20120808T163000Z
DTEND:20120808T180000Z
X-MICROSOFT-CDO-ALLDAYEVENT:FALSE
SUMMARY:Joint Lunch with Shawnee Chamber
DESCRIPTION:Join the KCK and Shawnee Chamber's of Commerce for a joint lunch at Lake Quivira Country Club. The speaker will be Eric Morgenstern\, President and CEO of Morningstar Communications in Overland Park. His presentation is titled "Intentional Networking: Building Meaningful Connections." Eric is a 30-year industry veteran who has built Morningstar Communications into an all-star team with his "Think Excellence\, Not Difference" philosophy. His bio can be downloaded at this website: http://www.morningstarcomm.com/about/executive-leadership/.\n\n\n\nCost of the lunch is $25 for members and $35 for non-members.  Reservations are required by calling 913-371-3070 or register online.  No shows will be billed.
X-ALT-DESC;FMTTYPE=text/html:Join the KCK and Shawnee Chamber&#39\;s of Commerce for a joint lunch at Lake Quivira Country Club.<span style="font-size: 12px"><span style="font-family: arial">&nbsp\;The speaker will be Eric Morgenstern\, President and CEO of Morningstar Communications in Overland Park. His presentation is titled &ldquo\;Intentional Networking: Building Meaningful Connections.&rdquo\;&nbsp\;Eric is a 30-year industry veteran who has built Morningstar Communications into an all-star team with his &ldquo\;Think Excellence\, Not Difference&rdquo\; philosophy. His bio can be downloaded at this website: <a href="http://www.morningstarcomm.com/about/executive-leadership/"><span style="color: #800080">http://www.morningstarcomm.com/about/executive-leadership/</span></a>.</span></span><br />\n<br />\nCost of the lunch is $25 for members and $35 for non-members.&nbsp\; Reservations are required by calling 913-371-3070 or register online.&nbsp\; No shows will be billed.
LOCATION:Lake Quivira Country Club 100 Crescent Boulevard Lake Quivira KS 66217
UID:e.1213.18
SEQUENCE:3
DTSTAMP:20260425T131238Z
URL:https://business.kckchamber.com/events/details/joint-lunch-with-shawnee-chamber-08-08-2012-18
END:VEVENT

END:VCALENDAR
