BEGIN:VCALENDAR
VERSION:2.0
PRODID:-//ChamberMaster//Event Calendar 2.0//EN
METHOD:PUBLISH
X-PUBLISHED-TTL:P3D
REFRESH-INTERVAL:P3D
CALSCALE:GREGORIAN
BEGIN:VEVENT
DTSTART:20130614T220000Z
DTEND:20130615T000000Z
X-MICROSOFT-CDO-ALLDAYEVENT:FALSE
SUMMARY:June 2013 Business After Hours at Schlitterbahn
DESCRIPTION:Mark your calendars for a Metro-Wide Chamber Business After Hours event FREE on Friday\, June 14\, 5:00 p.m.   7:00 p.m. at Schlitterbahn of Kansas City. The water park kicks off summer daily operations on May 24 with a host of new amenities\, a few claims to fame and a place on a national tour.\n\n	\n\n	You won't want to miss this free Chamber networking event. Every attendee will receive a promotional code on discounted tickets as well as season passes. But to help us know how many will be attending\; we ask that you register here. If you do not have a login and password\, please use the "Not a member" option to register. For more information\, please contact Bridget Koan\, 913-748-2303 or bridget@kckchamber.com.
X-ALT-DESC;FMTTYPE=text/html:<div style="color: gray">\n	<span style="font-family: arial"><span style="color: #000000"><span style="font-size: medium">Mark your calendars for a Metro-Wide Chamber Business After Hours event <em><strong>FREE</strong></em> on Friday\, June 14\, 5:00 p.m. &ndash\; 7:00 p.m. at Schlitterbahn of Kansas City. The water park kicks off summer daily operations on May 24 with a host of new amenities\, a few claims to fame and a place on a national tour.<br />\n	<br />\n	You won&rsquo\;t want to miss this free Chamber networking event. Every attendee will receive a promotional code on discounted tickets as well as season passes. But to help us know how many will be attending\; we ask that you register here</span><span style="font-size: medium">. If you do not have a login and password\, please use the &ldquo\;Not a member&rdquo\; option to register. For more information\, please contact Bridget Koan\, 913-748-2303 or </span></span><a href="mailto:bridget@kckchamber.com"><span style="color: #000000"><span style="font-size: medium">bridget@kckchamber.com</span></span></a><span style="color: #000000"><span style="font-size: medium">.</span></span></span><br />\n	&nbsp\;</div>\n
LOCATION:Schlitterbahn Kansas City Waterpark 9400 State Ave. Kansas City\, Kan.
UID:e.1213.80
SEQUENCE:3
DTSTAMP:20260424T200402Z
URL:https://business.kckchamber.com/events/details/june-2013-business-after-hours-at-schlitterbahn-06-14-2013-80
END:VEVENT

END:VCALENDAR
