BEGIN:VCALENDAR
VERSION:2.0
PRODID:-//ChamberMaster//Event Calendar 2.0//EN
METHOD:PUBLISH
X-PUBLISHED-TTL:P3D
REFRESH-INTERVAL:P3D
CALSCALE:GREGORIAN
BEGIN:VEVENT
DTSTART:20250304T170000Z
DTEND:20250304T190000Z
X-MICROSOFT-CDO-ALLDAYEVENT:FALSE
SUMMARY:KCK Chamber Awards Luncheon
DESCRIPTION:KCK Chamber Awards Luncheon\n\nJoin us for the KCK Chamber Awards Luncheon\, a prestigious event celebrating excellence within our business community.\n\nDate and Time:Tuesday\, March 4\, 2025\, 11:00 AM   1:00 PM CST\n\n\n\n11:00 AM Registration and Networking\n\n11:45 AM Lunch\n\n12:00 PM Program \n\nLocation:Homefield KCK 9250 State Ave Kansas City\, KS 66112\n\nFees/Admission: Members: $50 - Non-Members: $60\n\nEvent Highlights: Recognition of outstanding businesses and individuals. Networking opportunities with community leaders. Celebrate the achievements that contribute to the growth and vitality of Kansas City\, Kansas. We look forward to honoring the excellence that drives our community forward.
X-ALT-DESC;FMTTYPE=text/html:<p><strong>KCK Chamber Awards Luncheon</strong></p>\n\n<p>Join us for the KCK Chamber Awards Luncheon\, a prestigious event celebrating excellence within our business community.</p>\n\n<p>Date and Time:Tuesday\, March 4\, 2025\, 11:00 AM &ndash\; 1:00 PM CST<br />\n<br />\n11:00 AM Registration and Networking<br />\n11:45 AM Lunch<br />\n12:00 PM Program&nbsp\;</p>\n\n<p>Location:Homefield KCK 9250 State Ave Kansas City\, KS 66112</p>\n\n<p>Fees/Admission: Members: $50 - Non-Members: $60</p>\n\n<p>Event Highlights: Recognition of outstanding businesses and individuals. Networking opportunities with community leaders. Celebrate the achievements that contribute to the growth and vitality of Kansas City\, Kansas. We look forward to honoring the excellence that drives our community forward.<br />\n<br />\n&nbsp\;</p>\n
LOCATION:Homefield KCK 9250 State Ave\, Kansas City\, KS 66112
UID:e.1213.2603
SEQUENCE:3
DTSTAMP:20260422T070323Z
URL:https://business.kckchamber.com/events/details/kck-chamber-awards-luncheon-2603
END:VEVENT

END:VCALENDAR
