BEGIN:VCALENDAR
VERSION:2.0
PRODID:-//ChamberMaster//Event Calendar 2.0//EN
METHOD:PUBLISH
X-PUBLISHED-TTL:P3D
REFRESH-INTERVAL:P3D
CALSCALE:GREGORIAN
BEGIN:VEVENT
DTSTART:20130920T210000Z
DTEND:20130920T220000Z
X-MICROSOFT-CDO-ALLDAYEVENT:FALSE
SUMMARY:KCK Chamber Lobby Sponsorship Unveiling
DESCRIPTION:Join us for a reception as we unveil the KCK Chamber Lobby Sponsorship.
X-ALT-DESC;FMTTYPE=text/html:Join us for a reception as we unveil the KCK Chamber Lobby Sponsorship.
LOCATION:KCK Chamber of Commerce 727 Minnesota Building Kansas City\, Kansas
UID:e.1213.93
SEQUENCE:3
DTSTAMP:20260424T155500Z
URL:https://business.kckchamber.com/events/details/kck-chamber-lobby-sponsorship-unveiling-09-20-2013-93
END:VEVENT

END:VCALENDAR
