BEGIN:VCALENDAR
VERSION:2.0
PRODID:-//ChamberMaster//Event Calendar 2.0//EN
METHOD:PUBLISH
X-PUBLISHED-TTL:P3D
REFRESH-INTERVAL:P3D
CALSCALE:GREGORIAN
BEGIN:VEVENT
DTSTART;VALUE=DATE:20151225
DTEND;VALUE=DATE:20151226
TRANSP:TRANSPARENT
X-MICROSOFT-CDO-ALLDAYEVENT:TRUE
SUMMARY:KCK Chamber Offices Closed
DESCRIPTION:KCK Chamber Office closed for the holidays Wednesday\, December 24 - Friday\, December 25\, 2015. Our office will reopen on Monday\, December 28\, 2015.
X-ALT-DESC;FMTTYPE=text/html:<span style="font-size: 12.7272720336914px\; line-height: 18.9090900421143px\;">KCK Chamber Office closed for the holidays Wednesday\, December 24 - Friday\, December 25\, 2015. Our office will reopen on Monday\, December 28\, 2015.</span>
LOCATION:
UID:e.1213.285
SEQUENCE:3
DTSTAMP:20260420T213433Z
URL:https://business.kckchamber.com/events/details/kck-chamber-offices-closed-12-25-2015-285
END:VEVENT

END:VCALENDAR
