BEGIN:VCALENDAR
VERSION:2.0
PRODID:-//ChamberMaster//Event Calendar 2.0//EN
METHOD:PUBLISH
X-PUBLISHED-TTL:P3D
REFRESH-INTERVAL:P3D
CALSCALE:GREGORIAN
BEGIN:VEVENT
DTSTART;VALUE=DATE:20151230
DTEND;VALUE=DATE:20160102
TRANSP:TRANSPARENT
X-MICROSOFT-CDO-ALLDAYEVENT:TRUE
SUMMARY:KCK Chamber Offices Closed
DESCRIPTION:KCK Chamber Office closed for the New Year Holidays Wednesday\, December 30\, 2015 - Friday\,January 1\, 2016. Our office will reopen on Monday\, January 4\, 2016.
X-ALT-DESC;FMTTYPE=text/html:<span style="font-size: 12.7272720336914px\; line-height: 18.9090900421143px\;">KCK Chamber Office closed for the New Year Holidays Wednesday\, December 30\, 2015 - Friday\,January 1\, 2016. Our office will reopen on Monday\, January 4\, 2016.</span>
LOCATION:
UID:e.1213.286
SEQUENCE:3
DTSTAMP:20260420T213433Z
URL:https://business.kckchamber.com/events/details/kck-chamber-offices-closed-12-30-2015-286
END:VEVENT

END:VCALENDAR
