BEGIN:VCALENDAR
VERSION:2.0
PRODID:-//ChamberMaster//Event Calendar 2.0//EN
METHOD:PUBLISH
X-PUBLISHED-TTL:P3D
REFRESH-INTERVAL:P3D
CALSCALE:GREGORIAN
BEGIN:VEVENT
DTSTART:20170810T220000Z
DTEND:20170811T000000Z
X-MICROSOFT-CDO-ALLDAYEVENT:FALSE
SUMMARY:KCK Chamber Women's Executive Network -Kansas Speedway
DESCRIPTION:Join us for this high level networking experience dedicated to female exec's VP and above\, business owners and Executive Directors.  Guests are encouraged to bring an up and coming female on the management/leadership track to this event.  We will also be hearing an update on the Kansas Speedway from President Pat Warren while we enjoy refreshments in the Presidential Suite with views all the way to KCMO!\n\nThis opportunity is available to female exec members of the KCK Chamber\, KCK Women's Chamber and/or Central Exchange only and must be registered through contacting kate@kckchamber.com\n\n\n\nThank you to our sponsors\; Humana\, Burns & McDonnell\, Kansas Gas Service\, American Fallen Warrior Memorial Foundation\, Design Mechanical.\n\n\n\nKnow of a high level female executive who may benefit from the Network? Contact Kate Kershaw at kate@kckchamber.com
X-ALT-DESC;FMTTYPE=text/html:Join us for this high level networking experience dedicated to female exec&#39\;s VP and above\, business owners and Executive Directors.&nbsp\;&nbsp\;Guests are encouraged to bring an up and coming female on the management/leadership track to this event.&nbsp\;&nbsp\;We will also be hearing an update on the Kansas Speedway from President Pat Warren&nbsp\;while we enjoy refreshments&nbsp\;in the&nbsp\;Presidential Suite with views all the way to KCMO!<br />\nThis opportunity is available to female exec members of the KCK Chamber\, KCK Women&#39\;s Chamber and/or Central Exchange only and must be registered through contacting <a href="mailto:kate@kckchamber.com">kate@kckchamber.com</a><br />\n<br />\nThank you to our sponsors\; Humana\, Burns &amp\; McDonnell\, Kansas Gas Service\, American Fallen Warrior Memorial Foundation\, Design Mechanical.<br />\n<br />\nKnow of a high level female executive who may benefit from the Network? Contact&nbsp\;Kate Kershaw at kate@kckchamber.com
LOCATION:Kansas Speedway Presidents Suite 400 Speedway Blvd Kansas City\, KS 66111
UID:e.1213.1514
SEQUENCE:3
DTSTAMP:20260419T131208Z
URL:https://business.kckchamber.com/events/details/kck-chamber-women-s-executive-network-kansas-speedway-1514
END:VEVENT

END:VCALENDAR
