BEGIN:VCALENDAR
VERSION:2.0
PRODID:-//ChamberMaster//Event Calendar 2.0//EN
METHOD:PUBLISH
X-PUBLISHED-TTL:P3D
REFRESH-INTERVAL:P3D
CALSCALE:GREGORIAN
BEGIN:VEVENT
DTSTART:20120803T213000Z
DTEND:20120803T233000Z
X-MICROSOFT-CDO-ALLDAYEVENT:FALSE
SUMMARY:KCK Google Fest
DESCRIPTION:KCK Google Fest August 3\n\n	Local KCK businesses and the Kansas City Kansas Chamber of Commerce will join with the Google Fiber team to discuss opportunities available through 100x the possibilities and speed for local businesses. This event will be Friday\, Aug. 3\, from 4:30 p.m. to 6:30 p.m. at Google Fiber Space\, 1820 Westport Rd.\, Kansas City\, Mo. 64111. Parking is available at Fiber Space. If that area is full\, parking is available at 1909 West 43rd Ave. behind the Pilates 1901 building.\n\n	\n\n	Refreshments and food will be provided by Cupini's and Boulevard Brewery. Cindy Cash and Mark Sabec will go into further detail on how Fiber can benefit KC businesses. At this event\, the attendees will learn how they can become personally involved and how they can better influence and activate their community.\n\n	\n\n	Topics of Discussion \n\n	\n		\n			KCK Chamber of Commerce benefiting from GOOGLE FIBER\n		\n			Moving KCK into the 21st century  \n		\n			Learning about the possibilities of Google Fiber\n		\n			Becoming an influencer in your community and neighborhood\n	\n	For more information\, please contact Bridget Koan\, 913-748-2303 or bridget@kckchamber.com. \n\n	Click here to edit...
X-ALT-DESC;FMTTYPE=text/html:<div style="color: gray">\n	<span style="color: #000000"><strong><span style="font-size: 12pt"><span style="font-family: times new roman\, serif">KCK Google Fest August 3</span></span></strong><br />\n	<span style="font-size: 12pt"><span style="font-family: times new roman\, serif">Local KCK businesses and the Kansas City Kansas Chamber of Commerce will join with the Google Fiber team to discuss opportunities available through 100x the possibilities and speed for local businesses. This event will be Friday\, Aug. 3\, from 4:30 p.m. to 6:30 p.m. at Google Fiber Space\, 1820 Westport Rd.\, Kansas City\, Mo. 64111. Parking is available at Fiber Space. If that area is full\, parking is available at 1909 West 43rd Ave. behind the Pilates 1901 building.</span></span><br />\n	<br />\n	<span style="font-size: 12pt"><span style="font-family: times new roman\, serif">Refreshments and food will be provided by Cupini&rsquo\;s and Boulevard Brewery. Cindy Cash and Mark Sabec will go into further detail on how Fiber can benefit KC businesses. At this event\, the attendees will learn how they can become personally involved and how they can better influence and activate their community.<br />\n	<br />\n	<strong>Topics of Discussion </strong></span></span></span><br />\n	<ul>\n		<li style="line-height: normal\; margin: 0in 0in 10pt\; vertical-align: baseline">\n			<span style="color: #000000"><span style="font-size: 12pt"><span style="font-family: times new roman\, serif">KCK Chamber of Commerce benefiting from GOOGLE FIBER</span></span></span></li>\n		<li style="line-height: normal\; margin: 0in 0in 10pt\; vertical-align: baseline">\n			<span style="color: #000000"><span style="font-size: 12pt"><span style="font-family: times new roman\, serif">Moving KCK into the 21st century &nbsp\;</span></span></span></li>\n		<li style="line-height: normal\; margin: 0in 0in 10pt\; vertical-align: baseline">\n			<span style="color: #000000"><span style="font-size: 12pt"><span style="font-family: times new roman\, serif">Learning about the possibilities of Google Fiber</span></span></span></li>\n		<li style="line-height: normal\; margin: 0in 0in 10pt\; vertical-align: baseline">\n			<span style="color: #000000"><span style="font-size: 12pt"><span style="font-family: times new roman\, serif">Becoming an influencer in your community and neighborhood</span></span></span></li>\n	</ul>\n	<span style="color: #000000"><span style="font-size: 12pt"><span style="font-family: times new roman\, serif">For more information\, please contact Bridget Koan\, 913-748-2303 or bridget@kckchamber.com.&nbsp\;</span></span><br />\n	Click here to edit...</span></div>\n
LOCATION:Google Fiber Space 1820 Westport Rd. Kansas City\, Mo. 64111
UID:e.1213.42
SEQUENCE:3
DTSTAMP:20260425T131013Z
URL:https://business.kckchamber.com/events/details/kck-google-fest-08-03-2012-42
END:VEVENT

END:VCALENDAR
