BEGIN:VCALENDAR
VERSION:2.0
PRODID:-//ChamberMaster//Event Calendar 2.0//EN
METHOD:PUBLISH
X-PUBLISHED-TTL:P3D
REFRESH-INTERVAL:P3D
CALSCALE:GREGORIAN
BEGIN:VEVENT
DTSTART:20130221T010000Z
DTEND:20130221T023000Z
X-MICROSOFT-CDO-ALLDAYEVENT:FALSE
SUMMARY:KCK Mayoral Primary Forum 2013
DESCRIPTION:All five mayoral candidates on the ballot have been invited to the Mayoral Primary Forum. This is sponsored by the Wyandotte County Chambers\, KCK NBRs and independent business organizations.
X-ALT-DESC;FMTTYPE=text/html:All five mayoral candidates on the ballot have been invited to the Mayoral Primary Forum. This is sponsored by the Wyandotte County Chambers\, KCK NBRs and independent business organizations.
LOCATION:KCK Public Schools Central Office First Floor Auditorium 2010 N. 59th Street Kansas City\, Kansas
UID:e.1213.64
SEQUENCE:3
DTSTAMP:20260425T021703Z
URL:https://business.kckchamber.com/events/details/kck-mayoral-primary-forum-2013-02-20-2013-64
END:VEVENT

END:VCALENDAR
