BEGIN:VCALENDAR
VERSION:2.0
PRODID:-//ChamberMaster//Event Calendar 2.0//EN
METHOD:PUBLISH
X-PUBLISHED-TTL:P3D
REFRESH-INTERVAL:P3D
CALSCALE:GREGORIAN
BEGIN:VEVENT
DTSTART;VALUE=DATE:20120926
DTEND;VALUE=DATE:20120927
TRANSP:TRANSPARENT
X-MICROSOFT-CDO-ALLDAYEVENT:TRUE
SUMMARY:KCK\, NEJO County\, and KBCC Chamber's B2B Expo
DESCRIPTION:
X-ALT-DESC;FMTTYPE=text/html:
LOCATION:Reardon Convention Center 500 Minnesota Avenue Kansas City KS 66101
UID:e.1213.15
SEQUENCE:3
DTSTAMP:20260425T102522Z
URL:https://business.kckchamber.com/events/details/kck-nejo-county-and-kbcc-chamber-s-b2b-expo-09-26-2012-15
END:VEVENT

END:VCALENDAR
