BEGIN:VCALENDAR
VERSION:2.0
PRODID:-//ChamberMaster//Event Calendar 2.0//EN
METHOD:PUBLISH
X-PUBLISHED-TTL:P3D
REFRESH-INTERVAL:P3D
CALSCALE:GREGORIAN
BEGIN:VEVENT
DTSTART:20170124T230000Z
DTEND:20170125T003000Z
X-MICROSOFT-CDO-ALLDAYEVENT:FALSE
SUMMARY:KCK Young Professionals Committee Meeting
DESCRIPTION:Interested in becoming a part of the KCK Young Professionals Initiative? Join us for the roll-out planning session!
X-ALT-DESC;FMTTYPE=text/html:Interested in becoming a part of the KCK Young Professionals Initiative? Join us for the roll-out planning session!&nbsp\;&nbsp\;&nbsp\;&nbsp\;&nbsp\;&nbsp\;&nbsp\;&nbsp\;&nbsp\;<br />\n&nbsp\;&nbsp\;&nbsp\;&nbsp\;
LOCATION:Breit's Stein and Deli 412 N 5th St Kansas City\, KS 66101
UID:e.1213.407
SEQUENCE:3
DTSTAMP:20260420T003510Z
URL:https://business.kckchamber.com/events/details/kck-young-professionals-committee-meeting-407
END:VEVENT

END:VCALENDAR
