BEGIN:VCALENDAR
VERSION:2.0
PRODID:-//ChamberMaster//Event Calendar 2.0//EN
METHOD:PUBLISH
X-PUBLISHED-TTL:P3D
REFRESH-INTERVAL:P3D
CALSCALE:GREGORIAN
BEGIN:VEVENT
DTSTART:20120920T170000Z
DTEND:20120920T170000Z
X-MICROSOFT-CDO-ALLDAYEVENT:FALSE
SUMMARY:Managing Your Procurement Expectations
DESCRIPTION:This Business Solution Series session includes discussion about the procurement process and procedures and how to best purchase from suppliers. The Business Solution Series is presented by Kansas City Kansas Community College\, Wyandotte Economic Development Council\, Unified Government and the KCK Chamber of Commerce.
X-ALT-DESC;FMTTYPE=text/html:<div style="color: gray">\n	<span style="font-size: 12pt"><span style="font-family: times new roman\, serif">This <strong><em>Business Solution Series</em></strong> session includes discussion about the procurement process and procedures and how to best purchase from suppliers. The Business Solution Series is presented by Kansas City Kansas Community College\, Wyandotte Economic Development Council\, Unified Government and the KCK Chamber of Commerce.&nbsp\;</span></span><br />\n	&nbsp\;</div>\n
LOCATION:Kansas City Kansas Community College Jewell Bldg. 2325 7250 State Ave. Kansas City\, Kan.\, 66112
UID:e.1213.46
SEQUENCE:3
DTSTAMP:20260425T113433Z
URL:https://business.kckchamber.com/events/details/managing-your-procurement-expectations-09-20-2012-46
END:VEVENT

END:VCALENDAR
