BEGIN:VCALENDAR
VERSION:2.0
PRODID:-//ChamberMaster//Event Calendar 2.0//EN
METHOD:PUBLISH
X-PUBLISHED-TTL:P3D
REFRESH-INTERVAL:P3D
CALSCALE:GREGORIAN
BEGIN:VEVENT
DTSTART:20131108T130000Z
DTEND:20131108T150000Z
X-MICROSOFT-CDO-ALLDAYEVENT:FALSE
SUMMARY:Mayors' Prayer Breakfast 2013
DESCRIPTION:The Wyandotte County mayors\, in cooperation with the Christian Businessmen's Committee\, are hosting the 39th annual Mayors' Prayer Breakfast on Friday\, Nov. 8 at 7:00 a.m. Seating begins at 6:45 a.m.\n\n\n\nSam West\, owner and operator of Chick-fil-A\, Plaza at the Speedway\, will be this year's speaker. Born in Phillip\, Miss.\, West completed his undergraduate studies at Alcorn State University in Lorman\, Miss. In 1992 he graduated from the University of North Carolina Chapel Hill\, Executive Management Program.\n\n\n\nWest began his career with HSBC (formerly-HFC) in 1980\; in 1989 he became HSBC's first African American Executive in the Plains Division\, serving as Assistant Vice President of Human Resources. In 1990 he was promoted to Vice President of Training and Development in Elmhurst\, Ill. Just two years later\, West was promoted to Vice President-District Sales Manager\, managing $250 million plus in receivables. During his 15 year tenure he was selected premier manager in 1988 and executive of the year in both 1992 and 1995. West appeared in the 1996 issue of Money Magazine.\n\n\n\nWest then served as President of 1st Fidelity Mortgage\, Prairie Village\, Kan.\, where he increased the company sales by $1.5 million or more for 10 consecutive years. West received several leadership and community awards while serving in his role at 1st Fidelity.
X-ALT-DESC;FMTTYPE=text/html:The Wyandotte&nbsp\;County mayors\, in cooperation with the Christian Businessmen&#39\;s Committee\, are hosting the 39th annual Mayors&#39\; Prayer Breakfast on Friday\, Nov. 8 at 7:00 a.m. Seating begins at 6:45 a.m.<br />\n<br />\nSam West\, owner and operator of Chick-fil-A\, Plaza at the Speedway\, will be this year&#39\;s speaker. Born in Phillip\, Miss.\, West completed his undergraduate studies at Alcorn State University in Lorman\, Miss. In 1992 he graduated from the University of North Carolina Chapel Hill\, Executive Management Program.<br />\n<br />\nWest&nbsp\;began his career with HSBC (formerly-HFC) in 1980\; in 1989 he became HSBC&#39\;s first African American Executive in the Plains Division\, serving as Assistant Vice President of Human Resources. In 1990 he was promoted to Vice President of Training and Development in Elmhurst\, Ill. Just two years later\, West was promoted to Vice President-District Sales Manager\, managing $250 million plus in receivables. During his 15 year tenure he was selected premier manager in 1988 and executive of the year in both 1992 and 1995. West appeared in the 1996 issue of Money Magazine.<br />\n<br />\nWest then served as President of 1st Fidelity Mortgage\, Prairie Village\, Kan.\, where he increased the company sales by $1.5&nbsp\;million or more for 10 consecutive years. West received several leadership and community awards while serving in his role at 1st Fidelity.<br />\n
LOCATION:Reardon Civic Center 500 Minnesota Avenue Kansas City\, Kansas
UID:e.1213.110
SEQUENCE:3
DTSTAMP:20260424T141955Z
URL:https://business.kckchamber.com/events/details/mayors-prayer-breakfast-2013-11-08-2013-110
END:VEVENT

END:VCALENDAR
