BEGIN:VCALENDAR
VERSION:2.0
PRODID:-//ChamberMaster//Event Calendar 2.0//EN
METHOD:PUBLISH
X-PUBLISHED-TTL:P3D
REFRESH-INTERVAL:P3D
CALSCALE:GREGORIAN
BEGIN:VEVENT
DTSTART:20141107T130000Z
DTEND:20141107T150000Z
X-MICROSOFT-CDO-ALLDAYEVENT:FALSE
SUMMARY:Mayors' Prayer Breakfast 2014
DESCRIPTION:The Wyandotte County Mayor's Prayer Breakfast Committee  is hosting the 40th annual Mayors' Prayer Breakfast on Friday\, Nov. 7 at 7:00 a.m.\n\nSeating begins at 6:45 a.m.\n\n\n\nSpeaker: Emanuel Cleaver\, II
X-ALT-DESC;FMTTYPE=text/html:<p><span style="font-size:14px\;"><span style="line-height: 20.7999992370605px\;">The&nbsp\;</span>Wyandotte County Mayor&rsquo\;s Prayer Breakfast Committee&#8203\;<span style="line-height: 20.7999992370605px\;">&nbsp\;is hosting the </span><span style="line-height: 20.7999992370605px\;">40</span>th<span style="line-height: 20.7999992370605px\;">&nbsp\;annual Mayors&#39\;&nbsp\;</span></span><span style="font-size: 14px\; line-height: 20.7999992370605px\;">Prayer Breakfast on Friday\, Nov. 7 at 7:00 a.m.<br />\nSeating begins at 6:45 a.m.</span></p>\n\n<p><br />\n<span style="font-size:14px\;"><strong>Speaker</strong>: Emanuel Cleaver\, II</span></p>\n
LOCATION:Reardon Convention Center 500 Minnesota Kansas City\, Kansas 66101
UID:e.1213.195
SEQUENCE:3
DTSTAMP:20260423T185857Z
URL:https://business.kckchamber.com/events/details/mayors-prayer-breakfast-2014-11-07-2014-195
END:VEVENT

END:VCALENDAR
