BEGIN:VCALENDAR
VERSION:2.0
PRODID:-//ChamberMaster//Event Calendar 2.0//EN
METHOD:PUBLISH
X-PUBLISHED-TTL:P3D
REFRESH-INTERVAL:P3D
CALSCALE:GREGORIAN
BEGIN:VEVENT
DTSTART:20130514T130000Z
DTEND:20130514T143000Z
X-MICROSOFT-CDO-ALLDAYEVENT:FALSE
SUMMARY:Mobile Marketing - Maximizing Your Mobile Device - Business Solutions Series
DESCRIPTION:Learn and gain a comprehensive understanding of the rapidly evolving landscape of mobile marketing.\n\n\n\nThis workshop is part of the 2013 Business Solution Series\, networking breakfasts to support the Kansas City business community with its changing economic and industry needs.
X-ALT-DESC;FMTTYPE=text/html:Learn and gain a comprehensive understanding of the rapidly evolving landscape of mobile marketing.<br />\n<br />\nThis workshop is part of the 2013&nbsp\;Business Solution Series\, networking breakfasts to support the Kansas City business community with its changing economic and industry needs.&nbsp\;<span _fck_bookmark="1" style="display: none">&nbsp\;</span>&nbsp\;<span _fck_bookmark="1" style="display: none">&nbsp\;</span><br />\n
LOCATION:Kansas City Kansas Community College Flint Building\, 3632 7250 State Ave. Kansas City\, Kan.
UID:e.1213.56
SEQUENCE:3
DTSTAMP:20260424T213136Z
URL:https://business.kckchamber.com/events/details/mobile-marketing-maximizing-your-mobile-device-business-solutions-series-05-14-2013-56
END:VEVENT

END:VCALENDAR
