BEGIN:VCALENDAR
VERSION:2.0
PRODID:-//ChamberMaster//Event Calendar 2.0//EN
METHOD:PUBLISH
X-PUBLISHED-TTL:P3D
REFRESH-INTERVAL:P3D
CALSCALE:GREGORIAN
BEGIN:VEVENT
DTSTART:20140117T140000Z
DTEND:20140117T153000Z
X-MICROSOFT-CDO-ALLDAYEVENT:FALSE
SUMMARY:Morning Coffee
DESCRIPTION:Join us for Morning Coffee and networking. KCK Chamber Member Mike Kozisek with Bookkeeping Express is our member guest. He can handle your books\, so you can get back to business. Meet Mike and ask him your business bookkeeping questions. Don't forget your business cards for networking!
X-ALT-DESC;FMTTYPE=text/html:Join us for Morning Coffee and networking. KCK Chamber Member Mike Kozisek with Bookkeeping Express is our member guest. He can handle your books\, so you can get back to business. Meet&nbsp\;Mike and ask him your business bookkeeping questions. Don&#39\;t forget your business cards for networking!
LOCATION:KCK Chamber of Commerce 727 Minnesota Kansas City\, Kansas
UID:e.1213.131
SEQUENCE:3
DTSTAMP:20260424T100640Z
URL:https://business.kckchamber.com/events/details/morning-coffee-01-17-2014-131
END:VEVENT

END:VCALENDAR
