BEGIN:VCALENDAR
VERSION:2.0
PRODID:-//ChamberMaster//Event Calendar 2.0//EN
METHOD:PUBLISH
X-PUBLISHED-TTL:P3D
REFRESH-INTERVAL:P3D
CALSCALE:GREGORIAN
BEGIN:VEVENT
DTSTART:20140128T140000Z
DTEND:20140128T153000Z
X-MICROSOFT-CDO-ALLDAYEVENT:FALSE
SUMMARY:Morning Coffee
DESCRIPTION:Join the KCK Chamber for morning coffee and networking! If you are a KCK Area Chamber of Commerce member\, Bridget and Jane will show you how to use the membership database for your marketing activities.
X-ALT-DESC;FMTTYPE=text/html:Join the KCK Chamber for morning coffee and networking! If you are a KCK Area Chamber of Commerce member\, Bridget and Jane will show you how to use the membership database for your marketing activities.<br />\n<br />\n
LOCATION:KCK Chamber Office 727 Minnesota Kansas City\, Kansas
UID:e.1213.136
SEQUENCE:3
DTSTAMP:20260424T100956Z
URL:https://business.kckchamber.com/events/details/morning-coffee-01-28-2014-136
END:VEVENT

END:VCALENDAR
