BEGIN:VCALENDAR
VERSION:2.0
PRODID:-//ChamberMaster//Event Calendar 2.0//EN
METHOD:PUBLISH
X-PUBLISHED-TTL:P3D
REFRESH-INTERVAL:P3D
CALSCALE:GREGORIAN
BEGIN:VEVENT
DTSTART:20140213T140000Z
DTEND:20140213T153000Z
X-MICROSOFT-CDO-ALLDAYEVENT:FALSE
SUMMARY:Morning Coffee
DESCRIPTION:Corey Mohn with Network Kansas will join us for morning coffee at the KCK Chamber of Commerce from 8:00 a.m.   9:30 a.m. on Thursday\, Feb. 13. Network Kansas connects aspiring\, emerging and established businesses to a wide network of business-building resource organizations across the state. Come ask Corey how Network Kansas can help you grow or start your business.
X-ALT-DESC;FMTTYPE=text/html:<span style="font-size: medium">Corey Mohn with Network Kansas will join us for morning coffee at the KCK Chamber of Commerce from 8:00 a.m. &ndash\; 9:30 a.m. on Thursday\, Feb. 13. Network Kansas connects aspiring\, emerging and established businesses to a wide network of business-building resource organizations across the state. Come ask Corey how Network Kansas can help you grow or start your business.</span><br />\n
LOCATION:KCK Chamber of Commerce 727 Minnesota Kansas City\, Kan.
UID:e.1213.144
SEQUENCE:3
DTSTAMP:20260424T085408Z
URL:https://business.kckchamber.com/events/details/morning-coffee-02-13-2014-144
END:VEVENT

END:VCALENDAR
