BEGIN:VCALENDAR
VERSION:2.0
PRODID:-//ChamberMaster//Event Calendar 2.0//EN
METHOD:PUBLISH
X-PUBLISHED-TTL:P3D
REFRESH-INTERVAL:P3D
CALSCALE:GREGORIAN
BEGIN:VEVENT
DTSTART:20140225T140000Z
DTEND:20140225T153000Z
X-MICROSOFT-CDO-ALLDAYEVENT:FALSE
SUMMARY:Morning Coffee
DESCRIPTION:Elisa Waldman\, Kansas Small Business Development Center (KSBDC)\, will join us for Morning Coffee! The KSBDC helps entrepreneurs and small business owners start and grow their businesses through professional consulting\, training and resources.\n\n\n\nThis networking meeting is free and open to the public.
X-ALT-DESC;FMTTYPE=text/html:Elisa Waldman\, Kansas Small Business Development Center (KSBDC)\, will join us for Morning Coffee! The&nbsp\;KSBDC helps&nbsp\;entrepreneurs<strong>&nbsp\;</strong>and&nbsp\;small business owners&nbsp\;start and grow their businesses through&nbsp\;professional&nbsp\;consulting\,&nbsp\;training&nbsp\;and resources.<br />\n<br />\nThis networking meeting is free and open to the public.
LOCATION:KCK Chamber of Commerce 727 Minnesota Kansas City\, Kansas
UID:e.1213.148
SEQUENCE:3
DTSTAMP:20260424T085347Z
URL:https://business.kckchamber.com/events/details/morning-coffee-02-25-2014-148
END:VEVENT

END:VCALENDAR
