BEGIN:VCALENDAR
VERSION:2.0
PRODID:-//ChamberMaster//Event Calendar 2.0//EN
METHOD:PUBLISH
X-PUBLISHED-TTL:P3D
REFRESH-INTERVAL:P3D
CALSCALE:GREGORIAN
BEGIN:VEVENT
DTSTART:20140522T130000Z
DTEND:20140522T143000Z
X-MICROSOFT-CDO-ALLDAYEVENT:FALSE
SUMMARY:Morning Coffee & Networking
DESCRIPTION:It's an encore presentation! Join us for morning coffee and networking. Ed Doering with Kansas City SCORE will attend and will answer your questions about their mentoring services. SCORE is a nonprofit association dedicated to educating entrepreneurs and helping small businesses start\, grow and succeed nationwide. SCORE is a resource partner with the U.S. Small Business Administration (SBA)\, and has been mentoring small business owners for more than forty years.
X-ALT-DESC;FMTTYPE=text/html:<span style="font-size: 12pt"><span style="color: black"><span style="font-family: times new roman\, serif"><span style="font-family: times new roman"><strong>It&#39\;s an encore presentation! </strong>Join us for morning coffee and networking. Ed Doering with Kansas City SCORE will attend and&nbsp\;will answer your questions about their mentoring services. SCORE is a nonprofit association dedicated to educating entrepreneurs and helping small businesses start\, grow and succeed nationwide. SCORE is a resource partner with the U.S. Small Business Administration (SBA)\, and has been mentoring small business owners for more than forty years.</span></span></span></span><br />\n&nbsp\;
LOCATION:KCK Chamber of Commerce 727 Minnesota Kansas City\, Kansas
UID:e.1213.170
SEQUENCE:3
DTSTAMP:20260424T035025Z
URL:https://business.kckchamber.com/events/details/morning-coffee-networking-05-22-2014-170
END:VEVENT

END:VCALENDAR
