BEGIN:VCALENDAR
VERSION:2.0
PRODID:-//ChamberMaster//Event Calendar 2.0//EN
METHOD:PUBLISH
X-PUBLISHED-TTL:P3D
REFRESH-INTERVAL:P3D
CALSCALE:GREGORIAN
BEGIN:VEVENT
DTSTART:20131205T140000Z
DTEND:20131205T153000Z
X-MICROSOFT-CDO-ALLDAYEVENT:FALSE
SUMMARY:Morning Coffee -- "Take Charge Challenge"
DESCRIPTION:Sign your business up for the "Take Charge Challenge" at our Morning Coffee!\n\n	\n\n	Patrice Townsend with Kansas City Kansas Board of Public Utilities will be available this morning to answer your questions and sign your business up for the "Take Charge Challenge." Your company could win $5\,000.00 for energy efficiency project through their participation in the "Take Charge Challenge."\n\n	\n\n	Information about the "Take Charge Challenge" can be found here: http://www.takechargechallenge.com/mokan/challenge.shtml/?subdomain=mokan
X-ALT-DESC;FMTTYPE=text/html:<div style="color: gray">\n	<span class="cm_editor_fix">Sign your business up for the &quot\;Take Charge Challenge&quot\; at our&nbsp\;Morning Coffee!</span><br />\n	<br />\n	Patrice Townsend with Kansas City Kansas Board of Public Utilities will be available this morning to answer your questions and sign your business&nbsp\;up for the &quot\;Take Charge Challenge.&quot\; Y<span style="font-size: 11pt"><span style="font-family: calibri\, sans-serif"><span style="font-family: calibri">our company could win $5\,000.00 for energy efficiency project through their participation in the &quot\;Take Charge Challenge.&quot\;</span></span></span><br />\n	<br />\n	Information about the &quot\;Take Charge Challenge&quot\; can be found here: <a href="http://www.takechargechallenge.com/mokan/challenge.shtml/?subdomain=mokan">http://www.takechargechallenge.com/mokan/challenge.shtml/?subdomain=mokan</a><br />\n	&nbsp\;</div>\n
LOCATION:KCK Chamber Office 727 Minnesota Kansas City\, Kansas 66160
UID:e.1213.114
SEQUENCE:3
DTSTAMP:20260424T125301Z
URL:https://business.kckchamber.com/events/details/morning-coffee-take-charge-challenge-12-05-2013-114
END:VEVENT

END:VCALENDAR
