BEGIN:VCALENDAR
VERSION:2.0
PRODID:-//ChamberMaster//Event Calendar 2.0//EN
METHOD:PUBLISH
X-PUBLISHED-TTL:P3D
REFRESH-INTERVAL:P3D
CALSCALE:GREGORIAN
BEGIN:VEVENT
DTSTART:20130510T134500Z
DTEND:20130510T150000Z
X-MICROSOFT-CDO-ALLDAYEVENT:FALSE
SUMMARY:Morning Schmooze with Greater Kansas City Chamber
DESCRIPTION:The KCK Chamber is partnering with the Greater KC Chamber on their May morning of networking at The Chateau Avalon Hotel\, Spa & Wine Bar.\n\n\n\nSchmooze with Greater KC and KCK members over a light breakfast. Hotel tours will be provided.
X-ALT-DESC;FMTTYPE=text/html:The KCK Chamber is partnering with the Greater KC Chamber on their May morning of networking at The Chateau Avalon Hotel\, Spa &amp\; Wine Bar.<br />\n<br />\nSchmooze with Greater KC and KCK members over a light breakfast. Hotel tours will be provided.
LOCATION:Chateau Avalon 701 Village West Parkway Kansas City\, KS 66111
UID:e.1213.77
SEQUENCE:3
DTSTAMP:20260424T213447Z
URL:https://business.kckchamber.com/events/details/morning-schmooze-with-greater-kansas-city-chamber-05-10-2013-77
END:VEVENT

END:VCALENDAR
