BEGIN:VCALENDAR
VERSION:2.0
PRODID:-//ChamberMaster//Event Calendar 2.0//EN
METHOD:PUBLISH
X-PUBLISHED-TTL:P3D
REFRESH-INTERVAL:P3D
CALSCALE:GREGORIAN
BEGIN:VEVENT
DTSTART:20140110T210000Z
DTEND:20140111T000000Z
X-MICROSOFT-CDO-ALLDAYEVENT:FALSE
SUMMARY:Open House & Ribbon Cutting
DESCRIPTION:Open House & Ribbon Cutting\n\nH&R Block in Argentine
X-ALT-DESC;FMTTYPE=text/html:<span style="font-size: 14px"><span style="font-family: times new roman">Open House &amp\; Ribbon Cutting<br />\nH&amp\;R Block in Argentine</span></span><br />\n
LOCATION:3120 Strong Ave. Kansas City\, Kansas
UID:e.1213.138
SEQUENCE:3
DTSTAMP:20260424T100924Z
URL:https://business.kckchamber.com/events/details/open-house-ribbon-cutting-01-10-2014-138
END:VEVENT

END:VCALENDAR
