BEGIN:VCALENDAR
VERSION:2.0
PRODID:-//ChamberMaster//Event Calendar 2.0//EN
METHOD:PUBLISH
X-PUBLISHED-TTL:P3D
REFRESH-INTERVAL:P3D
CALSCALE:GREGORIAN
BEGIN:VEVENT
DTSTART:20141009T210000Z
DTEND:20141009T230000Z
X-MICROSOFT-CDO-ALLDAYEVENT:FALSE
SUMMARY:Open House & Ribbon Cutting - Douglass-Sumner
DESCRIPTION:LISC\, along with Community Housing of Wyandotte County and the Douglass-Sumner Neighborhood Association\, invites you the celebration of the completion of four new homes on Oakland Avenue in the Douglass-Sumner neighborhood. The reception and ribbon-cutting will be at 4:00 p.m. and Open House tours will be from 4:30 p.m. - 6:00 p.m.
X-ALT-DESC;FMTTYPE=text/html:<span style="color:black\;"><span style="font-family:times new roman\,serif\;"><span style="font-size:12.0pt\;">LISC\, along with Community Housing of Wyandotte County and the Douglass-Sumner Neighborhood Association\, invites you the celebration of the completion of four new homes on Oakland Avenue in the Douglass-Sumner neighborhood. The reception and ribbon-cutting will be at 4:00 p.m. and Open House tours will be from 4:30 p.m. - 6:00 p.m.</span></span></span>
LOCATION:The location is the corner of 7th Street and Oakland Avenue in Kansas City\, Kansas.
UID:e.1213.197
SEQUENCE:3
DTSTAMP:20260423T203928Z
URL:https://business.kckchamber.com/events/details/open-house-ribbon-cutting-douglass-sumner-10-09-2014-197
END:VEVENT

END:VCALENDAR
