BEGIN:VCALENDAR
VERSION:2.0
PRODID:-//ChamberMaster//Event Calendar 2.0//EN
METHOD:PUBLISH
X-PUBLISHED-TTL:P3D
REFRESH-INTERVAL:P3D
CALSCALE:GREGORIAN
BEGIN:VEVENT
DTSTART:20141009T180000Z
DTEND:20141010T010000Z
X-MICROSOFT-CDO-ALLDAYEVENT:FALSE
SUMMARY:Open House & Ribbon Cutting - MKS Pipe & Valve Supply
DESCRIPTION:MKS Pipe & Valve Supply invite you to an Open House and Ribbon Cutting.\n\n\n\nOpen House: 1:00 p.m. - 8:00 p.m.\n\nRibbon Cutting: 1:30 p.m.
X-ALT-DESC;FMTTYPE=text/html:<span style="font-family:times new roman\,serif\;"><span style="font-size:12pt\;">MKS Pipe &amp\; Valve Supply invite you to an Open House and Ribbon Cutting.<br />\n<br />\nOpen House: 1:00 p.m. - 8:00 p.m.<br />\nRibbon Cutting: 1:30 p.m.</span></span>
LOCATION:1200 Adams St. Kansas City\, Kansas
UID:e.1213.196
SEQUENCE:3
DTSTAMP:20260423T203928Z
URL:https://business.kckchamber.com/events/details/open-house-ribbon-cutting-mks-pipe-valve-supply-10-09-2014-196
END:VEVENT

END:VCALENDAR
