BEGIN:VCALENDAR
VERSION:2.0
PRODID:-//ChamberMaster//Event Calendar 2.0//EN
METHOD:PUBLISH
X-PUBLISHED-TTL:P3D
REFRESH-INTERVAL:P3D
CALSCALE:GREGORIAN
BEGIN:VEVENT
DTSTART:20130821T163000Z
DTEND:20130821T180000Z
X-MICROSOFT-CDO-ALLDAYEVENT:FALSE
SUMMARY:Over the Back Fence 2013
DESCRIPTION:Joint meeting of the KCK Chamber of Commerce and Shawnee Chamber of Commerce.\n\n\n\nSpeakers:\n\nKansas City Kansas Major Mark Holland\n\nShawnee Mayor Jeff Meyers
X-ALT-DESC;FMTTYPE=text/html:Joint meeting of the KCK Chamber of Commerce and Shawnee Chamber of Commerce.<br />\n<br />\nSpeakers:<br />\nKansas City Kansas Major Mark Holland<br />\nShawnee Mayor Jeff Meyers
LOCATION:Lake Quivira Country Club 100 Crescent Blvd. Lake Quivira\, Kan. 66217 Lake Quivira is a private\, gated community. Pre-registered guests for this event will need to check-in at the Lake Quivira guard shack. If you are not able to attend and will be sending someone in your place\, please provide the name of your replacement to Bridget BEFORE the luncheon. We will provide Lake Quivira a complete list of attendees for entrance.
UID:e.1213.83
SEQUENCE:3
DTSTAMP:20260424T183441Z
URL:https://business.kckchamber.com/events/details/over-the-back-fence-2013-08-21-2013-83
END:VEVENT

END:VCALENDAR
