BEGIN:VCALENDAR
VERSION:2.0
PRODID:-//ChamberMaster//Event Calendar 2.0//EN
METHOD:PUBLISH
X-PUBLISHED-TTL:P3D
REFRESH-INTERVAL:P3D
CALSCALE:GREGORIAN
BEGIN:VEVENT
DTSTART:20130129T140000Z
DTEND:20130129T153000Z
X-MICROSOFT-CDO-ALLDAYEVENT:FALSE
SUMMARY:Perfecting Sales - Business Solution Series Workshop
DESCRIPTION:Business owner's = salesmen/women. Learn tips and techniques to perfect direct selling.\n\n\n\nThis workshop is part of the 2013 Business Solution Series\, networking breakfasts to support the Kansas City business community with its changing economic and industry needs.
X-ALT-DESC;FMTTYPE=text/html:Business owner&#39\;s = salesmen/women. Learn tips and techniques to perfect direct selling.<br />\n<br />\nThis workshop is part of the 2013&nbsp\;Business Solution Series\, networking breakfasts to support the Kansas City business community with its changing economic and industry needs.
LOCATION:Kansas City Kansas Community College Flint Building\, 3632 7250 State Ave. Kansas City\, Kan.
UID:e.1213.52
SEQUENCE:3
DTSTAMP:20260425T034349Z
URL:https://business.kckchamber.com/events/details/perfecting-sales-business-solution-series-workshop-01-29-2013-52
END:VEVENT

END:VCALENDAR
