BEGIN:VCALENDAR
VERSION:2.0
PRODID:-//ChamberMaster//Event Calendar 2.0//EN
METHOD:PUBLISH
X-PUBLISHED-TTL:P3D
REFRESH-INTERVAL:P3D
CALSCALE:GREGORIAN
BEGIN:VEVENT
DTSTART:20170117T160000Z
DTEND:20170117T163000Z
X-MICROSOFT-CDO-ALLDAYEVENT:FALSE
SUMMARY:Piper Heritage Veterinary Clinic Ground Breaking Ceremony
DESCRIPTION:Piper Heritage Veterinary Clinic has been serving Kansas City and the surrounding area from its current location since 1973.  We are growing and want to serve more people and their pets so we are moving across the street and building a new 6000 square foot medical\, surgical and boarding facility.
X-ALT-DESC;FMTTYPE=text/html:<span style="font-family:times new roman\,serif\;"><span style="font-size:12.0pt\;">Piper Heritage Veterinary Clinic has been serving Kansas City and the surrounding area from its current location since 1973.&nbsp\; We are growing and want to serve more people and their pets so we are moving across the street and building a new 6000 square foot medical\, surgical and boarding facility. &nbsp\;</span></span>
LOCATION:10041 Leavenworth Road Kansas City\, KS 66109
UID:e.1213.406
SEQUENCE:3
DTSTAMP:20260420T021549Z
URL:https://business.kckchamber.com/events/details/piper-heritage-veterinary-clinic-ground-breaking-ceremony-406
END:VEVENT

END:VCALENDAR
