BEGIN:VCALENDAR
VERSION:2.0
PRODID:-//ChamberMaster//Event Calendar 2.0//EN
METHOD:PUBLISH
X-PUBLISHED-TTL:P3D
REFRESH-INTERVAL:P3D
CALSCALE:GREGORIAN
BEGIN:VEVENT
DTSTART;VALUE=DATE:20240504
DTEND;VALUE=DATE:20240506
TRANSP:TRANSPARENT
X-MICROSOFT-CDO-ALLDAYEVENT:TRUE
SUMMARY:Race Weekend at Kansas Speedway
DESCRIPTION:NASCAR CUP SERIES RACE | MAY 5\n\nThe most competitive racing on the planet will return to Kansas Speedway this spring!\nNASCAR CRAFTSMAN TRUCKS SERIES AND ARCA DOUBLEHEADER | MAY 4\n\nDon't forget your tank top and sunglasses when you come watch the up and coming drivers in the NASCAR Craftsman Truck Series and ARCA Doubleheader on Saturday.\n\nFor more information\, visit - https://www.kansasspeedway.com/spring-nascar-weekend/
X-ALT-DESC;FMTTYPE=text/html:<h1 style="margin: 0px 0px 25px\; padding: 0px 20px 10px 0px\; border-width: 0px 0px 2px\; border-top-style: initial\; border-right-style: initial\; border-bottom-style: solid\; border-left-style: initial\; border-top-color: initial\; border-right-color: initial\; border-bottom-color: rgb(255\, 255\, 255)\; border-left-color: initial\; border-image: initial\; font-size: 28px\; vertical-align: baseline\; line-height: 32px\; outline: 0px\; clear: both\; flex-shrink: 4\; text-transform: uppercase\; display: inline-block\; font-family: &quot\;Roboto Condensed&quot\;\, sans-serif\; background-color: rgb(255\, 255\, 255)\;"><span style="font-size:12px\;"><span style="font-family:arial\;"><strong>NASCAR CUP SERIES RACE | MAY 5</strong><br />\nThe most competitive racing on the planet will return to Kansas Speedway this spring!</span></span></h1>\n<span style="font-size:12px\;"><span style="font-family:arial\;"><span style="font-weight: 800\; text-transform: uppercase\; background-color: rgb(255\, 255\, 255)\;">NASCAR CRAFTSMAN TRUCKS SERIES AND ARCA DOUBLEHEADER | MAY 4</span><br />\n<span style="background-color: rgb(255\, 255\, 255)\;">Don&#39\;t forget your tank top and sunglasses when you come watch the up and coming drivers in the NASCAR Craftsman Truck Series and ARCA Doubleheader on Saturday.</span></span></span><br />\n<font face="arial"><span style="font-size: 12px\;">For more information\, visit -&nbsp\;</span></font>https://www.kansasspeedway.com/spring-nascar-weekend/
LOCATION:Kansas Speedway 866-460-7223 https://www.kansasspeedway.com/spring-nascar-weekend/
UID:e.1213.2533
SEQUENCE:3
DTSTAMP:20260424T123816Z
URL:https://business.kckchamber.com/events/details/race-weekend-at-kansas-speedway-2533
END:VEVENT

END:VCALENDAR
