BEGIN:VCALENDAR
VERSION:2.0
PRODID:-//ChamberMaster//Event Calendar 2.0//EN
METHOD:PUBLISH
X-PUBLISHED-TTL:P3D
REFRESH-INTERVAL:P3D
CALSCALE:GREGORIAN
BEGIN:VEVENT
DTSTART:20170808T124500Z
DTEND:20170808T140000Z
X-MICROSOFT-CDO-ALLDAYEVENT:FALSE
SUMMARY:Resource Business Breakfast - Sponsored by WorkWell Wyandotte (Members Only)
DESCRIPTION:KCK Chamber members\, are you looking to start your day off right with some networking and referrals?  Grab your business cards and join us for our Resource Business Breakfast! August's event will be held at the KC Cupcake Co. in downtown KCK and light breakfast and coffee will be provided.
X-ALT-DESC;FMTTYPE=text/html:KCK Chamber members\, are you looking to start your day off right with some networking and referrals?&nbsp\; Grab your business cards and join us for our Resource Business Breakfast! August&#39\;s event will be held at the KC Cupcake Co. in downtown KCK and light breakfast and coffee will be provided.&nbsp\;
LOCATION:KC Cupcake Co. 719 N 6th St. Kansas City\, KS 66101
UID:e.1213.1522
SEQUENCE:3
DTSTAMP:20260419T143619Z
URL:https://business.kckchamber.com/events/details/resource-business-breakfast-sponsored-by-workwell-wyandotte-members-only-1522
END:VEVENT

END:VCALENDAR
