BEGIN:VCALENDAR
VERSION:2.0
PRODID:-//ChamberMaster//Event Calendar 2.0//EN
METHOD:PUBLISH
X-PUBLISHED-TTL:P3D
REFRESH-INTERVAL:P3D
CALSCALE:GREGORIAN
BEGIN:VEVENT
DTSTART:20131017T160000Z
DTEND:20131017T163000Z
X-MICROSOFT-CDO-ALLDAYEVENT:FALSE
SUMMARY:Ribbon Cuting --My Dentist
DESCRIPTION:You are invited to the Ribbon Cutting and celebration for My Dentist.
X-ALT-DESC;FMTTYPE=text/html:You are invited to the Ribbon Cutting and celebration&nbsp\;for My Dentist.
LOCATION:7848 State Ave.\, Kansas City\, Kansas
UID:e.1213.108
SEQUENCE:3
DTSTAMP:20260424T142251Z
URL:https://business.kckchamber.com/events/details/ribbon-cuting-my-dentist-10-17-2013-108
END:VEVENT

END:VCALENDAR
