BEGIN:VCALENDAR
VERSION:2.0
PRODID:-//ChamberMaster//Event Calendar 2.0//EN
METHOD:PUBLISH
X-PUBLISHED-TTL:P3D
REFRESH-INTERVAL:P3D
CALSCALE:GREGORIAN
BEGIN:VEVENT
DTSTART:20220608T143000Z
DTEND:20220608T153000Z
X-MICROSOFT-CDO-ALLDAYEVENT:FALSE
SUMMARY:Ribbon Cutting AES Resources LLC
DESCRIPTION:Join us in welcoming new member AES Resources\, LLC to KCK! They will open their doors at 1414 Central Avenue\, and invite the community for a ribbon cutting and celebration!\n\n \n AES provides highly selective matching of qualified temporary\, temp-to-hire\, direct-hire\, permanent talents\, and payroll services to businesses throughout the Kansas City Metro Area.
X-ALT-DESC;FMTTYPE=text/html:Join us in welcoming new member AES Resources\, LLC to KCK! They will open their doors at 1414 Central Avenue\, and invite the community for a ribbon cutting and celebration!<br />\n&nbsp\;\n<div>&nbsp\;AES provides highly selective matching of qualified temporary\,&nbsp\;temp-to-hire\, direct-hire\, permanent talents\, and payroll services to businesses throughout the Kansas City Metro Area.</div>\n\n<div>&nbsp\;</div>\n
LOCATION:1414 Central Ave.
UID:e.1213.2409
SEQUENCE:3
DTSTAMP:20260424T211855Z
URL:https://business.kckchamber.com/events/details/ribbon-cutting-aes-resources-llc-2409
END:VEVENT

END:VCALENDAR
