BEGIN:VCALENDAR
VERSION:2.0
PRODID:-//ChamberMaster//Event Calendar 2.0//EN
METHOD:PUBLISH
X-PUBLISHED-TTL:P3D
REFRESH-INTERVAL:P3D
CALSCALE:GREGORIAN
BEGIN:VEVENT
DTSTART:20131023T133000Z
DTEND:20131023T140000Z
X-MICROSOFT-CDO-ALLDAYEVENT:FALSE
SUMMARY:Ribbon Cutting -- Aldi
DESCRIPTION:Join Aldi on State Ave. in KCK for a Ribbon Cutting to celebrate the opening of their remodeled store. The Ribbon Cutting will take place at 8:30 a.m. before the store opens at 9:00 a.m.
X-ALT-DESC;FMTTYPE=text/html:Join Aldi on State Ave. in KCK for a Ribbon Cutting to celebrate the opening of their remodeled store. The Ribbon Cutting will take place at 8:30 a.m. before the store opens at 9:00 a.m.
LOCATION:4805 State Ave. Kansas City\, KS 66102
UID:e.1213.112
SEQUENCE:3
DTSTAMP:20260424T141945Z
URL:https://business.kckchamber.com/events/details/ribbon-cutting-aldi-10-23-2013-112
END:VEVENT

END:VCALENDAR
