BEGIN:VCALENDAR
VERSION:2.0
PRODID:-//ChamberMaster//Event Calendar 2.0//EN
METHOD:PUBLISH
X-PUBLISHED-TTL:P3D
REFRESH-INTERVAL:P3D
CALSCALE:GREGORIAN
BEGIN:VEVENT
DTSTART:20140417T210000Z
DTEND:20140417T230000Z
X-MICROSOFT-CDO-ALLDAYEVENT:FALSE
SUMMARY:Ribbon Cutting and Open House - Village West Luxury Apartment
DESCRIPTION:Open House and Ribbon Cutting\n\nVillage West Luxury Apartments\n\nThe Open House starts at 4:00 p.m. The ribbon will be cut soon after 4:00 p.m.
X-ALT-DESC;FMTTYPE=text/html:Open House and Ribbon Cutting<br />\nVillage West Luxury Apartments<br />\nThe Open House starts at 4:00 p.m. The ribbon will be cut&nbsp\;soon after 4:00 p.m.
LOCATION:11024 Delaware Parkway Kansas City\, Kansas
UID:e.1213.153
SEQUENCE:3
DTSTAMP:20260424T053410Z
URL:https://business.kckchamber.com/events/details/ribbon-cutting-and-open-house-village-west-luxury-apartment-04-17-2014-153
END:VEVENT

END:VCALENDAR
