BEGIN:VCALENDAR
VERSION:2.0
PRODID:-//ChamberMaster//Event Calendar 2.0//EN
METHOD:PUBLISH
X-PUBLISHED-TTL:P3D
REFRESH-INTERVAL:P3D
CALSCALE:GREGORIAN
BEGIN:VEVENT
DTSTART:20150518T190000Z
DTEND:20150518T200000Z
X-MICROSOFT-CDO-ALLDAYEVENT:FALSE
SUMMARY:Ribbon Cutting ar Ruby Park
DESCRIPTION:Join WYCO Parks and Recreation at the Ruby Park Ribbon Cutting
X-ALT-DESC;FMTTYPE=text/html:Join WYCO Parks and Recreation at the Ruby Park Ribbon Cutting
LOCATION:1531 S. 30th Street Kansas City\, KS 66106
UID:e.1213.249
SEQUENCE:3
DTSTAMP:20260421T094755Z
URL:https://business.kckchamber.com/events/details/ribbon-cutting-ar-ruby-park-05-18-2015-249
END:VEVENT

END:VCALENDAR
