BEGIN:VCALENDAR
VERSION:2.0
PRODID:-//ChamberMaster//Event Calendar 2.0//EN
METHOD:PUBLISH
X-PUBLISHED-TTL:P3D
REFRESH-INTERVAL:P3D
CALSCALE:GREGORIAN
BEGIN:VEVENT
DTSTART:20140910T130000Z
DTEND:20140910T140000Z
X-MICROSOFT-CDO-ALLDAYEVENT:FALSE
SUMMARY:Ribbon Cutting: Argentine Walmart
DESCRIPTION:You are invited to the Ribbon Cutting Ceremony for the Argentine Walmart.
X-ALT-DESC;FMTTYPE=text/html:You are invited to the Ribbon Cutting Ceremony for the Argentine Walmart.
LOCATION:2300 Metropolitan Kansas City\, Kansas 66106
UID:e.1213.184
SEQUENCE:3
DTSTAMP:20260423T220543Z
URL:https://business.kckchamber.com/events/details/ribbon-cutting-argentine-walmart-09-10-2014-184
END:VEVENT

END:VCALENDAR
