BEGIN:VCALENDAR
VERSION:2.0
PRODID:-//ChamberMaster//Event Calendar 2.0//EN
METHOD:PUBLISH
X-PUBLISHED-TTL:P3D
REFRESH-INTERVAL:P3D
CALSCALE:GREGORIAN
BEGIN:VEVENT
DTSTART:20150812T213000Z
DTEND:20150812T230000Z
X-MICROSOFT-CDO-ALLDAYEVENT:FALSE
SUMMARY:Ribbon Cutting at Piper Assisted Living
DESCRIPTION:The KCK Chamber invites you to join our new member\, Piper Assisted Living for their Grand Opening + Ribbon Cutting celebration. RSVP by email to info@thepiperlife.com or call 913.400.7006
X-ALT-DESC;FMTTYPE=text/html:<span style="font-family: Arial\, Verdana\, sans-serif\; font-size: 14.4444446563721px\; line-height: 20.7999992370605px\;">The KCK Chamber invites you to join our new member\, Piper Assisted Living for&nbsp\;their&nbsp\;Grand Opening + Ribbon Cutting celebration.&nbsp\;RSVP by email to&nbsp\;</span><a href="mailto:info@thepiperlife.com?subject=Grand%20Opening%20RSVP%20" style="font-family: Arial\, Verdana\, sans-serif\; font-size: 14.4444446563721px\; line-height: 20.7999992370605px\;" target="_blank">info@thepiperlife.com</a><span style="font-family: Arial\, Verdana\, sans-serif\; font-size: 14.4444446563721px\; line-height: 20.7999992370605px\;">&nbsp\;or call 913.400.7006</span>
LOCATION:2300 N 113th Terrace Kansas City\, KS 66109
UID:e.1213.273
SEQUENCE:3
DTSTAMP:20260421T054250Z
URL:https://business.kckchamber.com/events/details/ribbon-cutting-at-piper-assisted-living-08-12-2015-273
END:VEVENT

END:VCALENDAR
