BEGIN:VCALENDAR
VERSION:2.0
PRODID:-//ChamberMaster//Event Calendar 2.0//EN
METHOD:PUBLISH
X-PUBLISHED-TTL:P3D
REFRESH-INTERVAL:P3D
CALSCALE:GREGORIAN
BEGIN:VEVENT
DTSTART:20140912T143000Z
DTEND:20140912T153000Z
X-MICROSOFT-CDO-ALLDAYEVENT:FALSE
SUMMARY:Ribbon Cutting: AT&T at Village West
DESCRIPTION:You are invited to the Grand Opening Ceremony\, Ribbon Cutting and Tour of the the new cutting edge AT&T store at Village West.
X-ALT-DESC;FMTTYPE=text/html:You are invited to the Grand Opening Ceremony\, Ribbon Cutting and Tour of the the new cutting edge AT&amp\;T store at Village West.&nbsp\;
LOCATION:10620 Parallel Parkway Kansas City\, Kansas (Located in front of Sam's Club)
UID:e.1213.186
SEQUENCE:3
DTSTAMP:20260423T220940Z
URL:https://business.kckchamber.com/events/details/ribbon-cutting-at-t-at-village-west-09-12-2014-186
END:VEVENT

END:VCALENDAR
