BEGIN:VCALENDAR
VERSION:2.0
PRODID:-//ChamberMaster//Event Calendar 2.0//EN
METHOD:PUBLISH
X-PUBLISHED-TTL:P3D
REFRESH-INTERVAL:P3D
CALSCALE:GREGORIAN
BEGIN:VEVENT
DTSTART:20150624T221500Z
DTEND:20150624T223000Z
X-MICROSOFT-CDO-ALLDAYEVENT:FALSE
SUMMARY:Ribbon Cutting at The Venue at Willow Creek
DESCRIPTION:
X-ALT-DESC;FMTTYPE=text/html:
LOCATION:3150 North 91st Street Kansas City\, KS 66109
UID:e.1213.257
SEQUENCE:3
DTSTAMP:20260421T070151Z
URL:https://business.kckchamber.com/events/details/ribbon-cutting-at-the-venue-at-willow-creek-06-24-2015-257
END:VEVENT

END:VCALENDAR
