BEGIN:VCALENDAR
VERSION:2.0
PRODID:-//ChamberMaster//Event Calendar 2.0//EN
METHOD:PUBLISH
X-PUBLISHED-TTL:P3D
REFRESH-INTERVAL:P3D
CALSCALE:GREGORIAN
BEGIN:VEVENT
DTSTART:20150514T160000Z
DTEND:20150514T170000Z
X-MICROSOFT-CDO-ALLDAYEVENT:FALSE
SUMMARY:Ribbon Cutting at Waterway Park
DESCRIPTION:Join WYCO Parks and Recreation at the Waterway Park Ribbon Cutting
X-ALT-DESC;FMTTYPE=text/html:Join WYCO Parks and Recreation at the Waterway Park Ribbon Cutting
LOCATION:700 Waterway Drive Kansas City\, KS 66102
UID:e.1213.248
SEQUENCE:3
DTSTAMP:20260421T095647Z
URL:https://business.kckchamber.com/events/details/ribbon-cutting-at-waterway-park-05-14-2015-248
END:VEVENT

END:VCALENDAR
