BEGIN:VCALENDAR
VERSION:2.0
PRODID:-//ChamberMaster//Event Calendar 2.0//EN
METHOD:PUBLISH
X-PUBLISHED-TTL:P3D
REFRESH-INTERVAL:P3D
CALSCALE:GREGORIAN
BEGIN:VEVENT
DTSTART:20140826T130000Z
DTEND:20140826T143000Z
X-MICROSOFT-CDO-ALLDAYEVENT:FALSE
SUMMARY:Ribbon Cutting & Business Before Hours
DESCRIPTION:Ribbon Cutting & Business Before Hours\n\n\n\n7th Street Event Center\n\n\n\nThe ribbon will be cut at approximately 9:00 a.m. Come learn more about this new event center in downtown KCK.
X-ALT-DESC;FMTTYPE=text/html:<strong>Ribbon Cutting &amp\; Business Before Hours</strong><br />\n<br />\n<span style="font-size:18px\;"><a href="http://eventcenterkck.com/"><strong>7th Street Event Center</strong></a></span><br />\n<br />\n<span style="font-family:times new roman\,serif\;"><span style="font-size:12.0pt\;">The ribbon will be cut at approximately 9:00 a.m. Come learn more about this new event center in downtown KCK.</span></span>
LOCATION:7th Street Event Center 737 Minnesota Kansas City\, Kansas 66101
UID:e.1213.188
SEQUENCE:3
DTSTAMP:20260423T232018Z
URL:https://business.kckchamber.com/events/details/ribbon-cutting-business-before-hours-08-26-2014-188
END:VEVENT

END:VCALENDAR
