BEGIN:VCALENDAR
VERSION:2.0
PRODID:-//ChamberMaster//Event Calendar 2.0//EN
METHOD:PUBLISH
X-PUBLISHED-TTL:P3D
REFRESH-INTERVAL:P3D
CALSCALE:GREGORIAN
BEGIN:VEVENT
DTSTART:20141015T160000Z
DTEND:20141015T170000Z
X-MICROSOFT-CDO-ALLDAYEVENT:FALSE
SUMMARY:Ribbon Cutting - Connections to Success
DESCRIPTION:Connections to Success invites you to an Open House and Ribbon Cutting to celebrate the opening of their new boutique\, Dress for Success. This is a free service that provides professional clothing for women who are referred from their partner agencies in Wyandotte County. The Dress for Success boutique will be open by appointment only and is located in the Connections to Success building\, 901 N 8th Street\, Suite 201\, Kansas City\, Kansas.
X-ALT-DESC;FMTTYPE=text/html:<span style="color:black\;"><span style="font-family:times new roman\,serif\;"><span style="font-size:12.0pt\;">Connections to Success invites you to an Open House and Ribbon Cutting to celebrate the opening of their new boutique\, Dress for Success. This is a free service that provides professional clothing for women who are referred from their partner agencies in Wyandotte County. The Dress for Success boutique will be open by appointment only and is located in the Connections to Success building\, 901 N 8th Street\, Suite 201\, Kansas City\, Kansas.</span></span></span>
LOCATION:Connections to Success 901 N 8th Street\, Suite 201 Kansas City\, Kansas
UID:e.1213.199
SEQUENCE:3
DTSTAMP:20260423T220724Z
URL:https://business.kckchamber.com/events/details/ribbon-cutting-connections-to-success-10-15-2014-199
END:VEVENT

END:VCALENDAR
