BEGIN:VCALENDAR
VERSION:2.0
PRODID:-//ChamberMaster//Event Calendar 2.0//EN
METHOD:PUBLISH
X-PUBLISHED-TTL:P3D
REFRESH-INTERVAL:P3D
CALSCALE:GREGORIAN
BEGIN:VEVENT
DTSTART:20170714T210000Z
DTEND:20170715T010000Z
X-MICROSOFT-CDO-ALLDAYEVENT:FALSE
SUMMARY:Ribbon Cutting: Do or Dye Salon and Spa
DESCRIPTION:Join us in welcoming new member Do or Dye Salon to western Wyandotte County for a KCK Chamber Ribbon Cutting and Open House!
X-ALT-DESC;FMTTYPE=text/html:Join us in welcoming new member Do or Dye Salon to western Wyandotte County for a KCK Chamber Ribbon Cutting and Open House!&nbsp\;
LOCATION:Do or Dye Salon and Spa 2100 Hutton Road\, Suite 104
UID:e.1213.510
SEQUENCE:3
DTSTAMP:20260419T145719Z
URL:https://business.kckchamber.com/events/details/ribbon-cutting-do-or-dye-salon-and-spa-510
END:VEVENT

END:VCALENDAR
