BEGIN:VCALENDAR
VERSION:2.0
PRODID:-//ChamberMaster//Event Calendar 2.0//EN
METHOD:PUBLISH
X-PUBLISHED-TTL:P3D
REFRESH-INTERVAL:P3D
CALSCALE:GREGORIAN
BEGIN:VEVENT
DTSTART:20140408T160000Z
DTEND:20140408T180000Z
X-MICROSOFT-CDO-ALLDAYEVENT:FALSE
SUMMARY:Ribbon Cutting -- Enterprise Bank
DESCRIPTION:Ribbon Cutting and Grand Opening\n\nEnterprise Bank\n\n\n\nOpen House starts at 11:00 a.m.\n\nRibbon Cutting Program starts at 12:00 p.m. (noon)
X-ALT-DESC;FMTTYPE=text/html:Ribbon Cutting and Grand Opening<br />\nEnterprise Bank<br />\n<br />\nOpen House starts at 11:00 a.m.<br />\nRibbon Cutting Program starts at 12:00 p.m. (noon)
LOCATION:151 South 18th St.\, Suite T Kansas City\, Kansas
UID:e.1213.152
SEQUENCE:3
DTSTAMP:20260424T053211Z
URL:https://business.kckchamber.com/events/details/ribbon-cutting-enterprise-bank-04-08-2014-152
END:VEVENT

END:VCALENDAR
