BEGIN:VCALENDAR
VERSION:2.0
PRODID:-//ChamberMaster//Event Calendar 2.0//EN
METHOD:PUBLISH
X-PUBLISHED-TTL:P3D
REFRESH-INTERVAL:P3D
CALSCALE:GREGORIAN
BEGIN:VEVENT
DTSTART:20170711T160000Z
DTEND:20170711T170000Z
X-MICROSOFT-CDO-ALLDAYEVENT:FALSE
SUMMARY:Ribbon Cutting-Fenton Nissan of Legends
DESCRIPTION:Join us as we celebrate the opening of Fenton Nissan of Legends to western Wyandotte County!
X-ALT-DESC;FMTTYPE=text/html:Join us as we celebrate the opening of Fenton Nissan of Legends&nbsp\;to western Wyandotte County!
LOCATION:Fenton Nissan of Legends 1900 North 100 Terrace Kansas City\, KS 66109
UID:e.1213.1516
SEQUENCE:3
DTSTAMP:20260419T150121Z
URL:https://business.kckchamber.com/events/details/ribbon-cutting-fenton-nissan-of-legends-1516
END:VEVENT

END:VCALENDAR
