BEGIN:VCALENDAR
VERSION:2.0
PRODID:-//ChamberMaster//Event Calendar 2.0//EN
METHOD:PUBLISH
X-PUBLISHED-TTL:P3D
REFRESH-INTERVAL:P3D
CALSCALE:GREGORIAN
BEGIN:VEVENT
DTSTART:20141024T190000Z
DTEND:20141024T210000Z
X-MICROSOFT-CDO-ALLDAYEVENT:FALSE
SUMMARY:Ribbon Cutting & Grand Opening - Alphapointe Contact Services Center
DESCRIPTION:Alphapointe invites you to an Open House and Ribbon Cutting for their Contact Services Center on Friday\, Oct. 24\, 2:00 p.m. to 4:00 p.m. The ribbon will be cut at approximately 3:00 p.m.
X-ALT-DESC;FMTTYPE=text/html:<span style="font-size:14px\;"><span style="font-family:tahoma\;"><span style="color:black\;">Alphapointe&nbsp\;invites you to an Open House and Ribbon Cutting for their Contact Services Center on Friday\, Oct. 24\, 2:00 p.m. to 4:00 p.m. The ribbon will be cut at approximately 3:00 p.m.&nbsp\;</span></span></span>
LOCATION:7501 Prospect\, Kansas City\, Missouri
UID:e.1213.207
SEQUENCE:3
DTSTAMP:20260423T220745Z
URL:https://business.kckchamber.com/events/details/ribbon-cutting-grand-opening-alphapointe-contact-services-center-10-24-2014-207
END:VEVENT

END:VCALENDAR
