BEGIN:VCALENDAR
VERSION:2.0
PRODID:-//ChamberMaster//Event Calendar 2.0//EN
METHOD:PUBLISH
X-PUBLISHED-TTL:P3D
REFRESH-INTERVAL:P3D
CALSCALE:GREGORIAN
BEGIN:VEVENT
DTSTART:20141009T153000Z
DTEND:20141009T190000Z
X-MICROSOFT-CDO-ALLDAYEVENT:FALSE
SUMMARY:Ribbon Cutting & Grand Opening - Summit Lease & Rental
DESCRIPTION:Summit Lease & Rental (formerly Diamond Idealease) invites you to a Ribbon Cutting and Grand Opening of their newly constructed facility at 346 James Street in Kansas City\, Kansas.\n\n\n\nOpen House: 10:30 a.m. - 2:00 p.m.\n\nRibbon Cutting: 11:00 a.m.
X-ALT-DESC;FMTTYPE=text/html:Summit Lease &amp\; Rental (formerly Diamond Idealease) invites you to a Ribbon Cutting and Grand Opening of their newly constructed facility at 346 James Street in Kansas City\, Kansas.<br />\n<br />\nOpen House: 10:30 a.m. - 2:00 p.m.<br />\nRibbon Cutting: 11:00 a.m.
LOCATION:346 James Street Kansas City\, Kansas 66118
UID:e.1213.202
SEQUENCE:3
DTSTAMP:20260423T220826Z
URL:https://business.kckchamber.com/events/details/ribbon-cutting-grand-opening-summit-lease-rental-10-09-2014-202
END:VEVENT

END:VCALENDAR
