BEGIN:VCALENDAR
VERSION:2.0
PRODID:-//ChamberMaster//Event Calendar 2.0//EN
METHOD:PUBLISH
X-PUBLISHED-TTL:P3D
REFRESH-INTERVAL:P3D
CALSCALE:GREGORIAN
BEGIN:VEVENT
DTSTART:20131008T213000Z
DTEND:20131008T220000Z
X-MICROSOFT-CDO-ALLDAYEVENT:FALSE
SUMMARY:Ribbon Cutting -- Hazel Grove Elementary School
DESCRIPTION:Hazel Grove Elementary School Ribbon Cutting Ceremony
X-ALT-DESC;FMTTYPE=text/html:Hazel Grove Elementary School Ribbon Cutting Ceremony
LOCATION:Hazel Grove Elementary School 2401 N. 67th Street Kansas City\, Kansas
UID:e.1213.105
SEQUENCE:3
DTSTAMP:20260424T153209Z
URL:https://business.kckchamber.com/events/details/ribbon-cutting-hazel-grove-elementary-school-10-08-2013-105
END:VEVENT

END:VCALENDAR
